BEGIN:VCALENDAR
VERSION:2.0
PRODID:https://github.com/derhansen/sf_event_mgt
METHOD:PUBLISH
BEGIN:VEVENT
UID:112-684@www.dietrichs.com
CLASS: PUBLIC
SUMMARY:DACHEXPO 2020
DESCRIPTION:Targom INTERBUD towarzyszą targi dekarskie oraz największa w 
 Polsce wystawa dachów.
LOCATION:Interbud
DTSTAMP:20191230T081118Z
DTSTART:20200221T080000Z
DTEND:20200223T150000Z
END:VEVENT
END:VCALENDAR