BEGIN:VCALENDAR
VERSION:2.0
PRODID:https://github.com/derhansen/sf_event_mgt
METHOD:PUBLISH
BEGIN:VEVENT
UID:35-678@www.dietrichs.com
CLASS: PUBLIC
SUMMARY:BCMC Framer Summit
DESCRIPTION:Tickets and Information: www.bcmcshow.com
LOCATION:Indiana Convention Center
DTSTAMP:20230117T100913Z
DTSTART:20230917T220000Z
DTEND:20230921T220000Z
END:VEVENT
END:VCALENDAR