BEGIN:VCALENDAR
VERSION:2.0
PRODID:https://github.com/derhansen/sf_event_mgt
METHOD:PUBLISH
BEGIN:VEVENT
UID:373-680@www.dietrichs.com
CLASS: PUBLIC
SUMMARY:WOODRISE 2023
DESCRIPTION:VERS UNE BIO-ECONOMIE DE LA CONSTRUCTION DECARBONEE\n\nLa 4e é
 dition du congrès « WOODRISE » vise à réunir 3000 participants venant
  de 20 pays différents.\n\nUne cinquantaine d’intervenants internationa
 ux présenteront, au travers des sessions plénières et des ateliers, les
  différents enjeux mondiaux de la construction bois de moyenne et grande 
 hauteur et de son intégration dans le concept de ville durable.\n\nWOODRI
 SE participe à la mutation des villes, la transition écologique de la co
 nstruction, la rénovation et l’aménagement, éléments majeurs de la n
 eutralité carbone :\n\n 	En fédérant toutes les parties prenantes de la
  filière forêt-bois autour des défis climatiques, énergétiques et env
 ironnementaux de demain, 	En mettant en lumière l’innovation et la tech
 nologie, la pédagogie et l’information, l’humain et le sociétal, 	En
  sensibilisant les professionnels et le grand public à la gestion de la r
 essource bois indispensable dans nos modes de vie d’aujourd’hui et dem
 ain. 
LOCATION:BEAM
DTSTAMP:20230201T120347Z
DTSTART:20231017T070000Z
DTEND:20231020T170000Z
END:VEVENT
END:VCALENDAR