BEGIN:VCALENDAR
VERSION:2.0
PRODID:https://github.com/derhansen/sf_event_mgt
METHOD:PUBLISH
BEGIN:VEVENT
UID:209-678@www.dietrichs.com
CLASS: PUBLIC
SUMMARY:Tallwood - Design Institute Workshop
DESCRIPTION:Modern wood construction is no longer only a craft or an art, i
 t is - and has to be - technology based. In every CAD/CAM system, from the
  planning stage to CNC production, new information input or manual transmi
 ssion of information happens during the process. While proprietary interfa
 ces can improve the handling and reduce the learning curve, they clearly l
 imit the choice of bespoke software solutions to allow for your customized
  solutions.\n\nAs an OpenBIM technology platform, IFC is meant to enable t
 he exchange of information between different software tools, accelerate in
 put and reduce transmission errors. However, it has to be prepared, commun
 icated and done well to avoid frustration and additional work - or errors.
  Good news: it is less complicated than you may think.\n\nIn this workshop
  Michael Marzy of Dietrich&#039;s (CAD/CAM software for timber design) will exp
 lain the basic functions and the necessary setup to “do IFC right”. Fr
 om dimensions to materials, from organizational to business information, f
 rom the first drawing on a napkin (well, almost..) to the CNC machine outp
 ut - the possibilities will be demonstrated with successful case studies a
 nd examples.
LOCATION:Oregon State University - Portland Center
DTSTAMP:20200108T112833Z
DTSTART:20200218T120000Z
DTEND:20200218T160000Z
END:VEVENT
END:VCALENDAR